BEGIN:VCALENDAR
VERSION:2.0
PRODID:-//Matthew Swift Gallery - ECPv5.8.2//NONSGML v1.0//EN
CALSCALE:GREGORIAN
METHOD:PUBLISH
X-WR-CALNAME:Matthew Swift Gallery
X-ORIGINAL-URL:https://matthewswiftgallery.com
X-WR-CALDESC:Events for Matthew Swift Gallery
BEGIN:VTIMEZONE
TZID:America/New_York
BEGIN:DAYLIGHT
TZOFFSETFROM:-0500
TZOFFSETTO:-0400
TZNAME:EDT
DTSTART:20160313T070000
END:DAYLIGHT
BEGIN:STANDARD
TZOFFSETFROM:-0400
TZOFFSETTO:-0500
TZNAME:EST
DTSTART:20161106T060000
END:STANDARD
END:VTIMEZONE
BEGIN:VEVENT
DTSTART;TZID=America/New_York:20160612T160000
DTEND;TZID=America/New_York:20160612T170000
DTSTAMP:20260419T075956
CREATED:20160530T200036Z
LAST-MODIFIED:20210605T164925Z
UID:5436-1465747200-1465750800@matthewswiftgallery.com
SUMMARY:Painting and Photography: A Conversation with Winston Boyer
DESCRIPTION:Early in photographer Winston Boyer’s career\, when the art of photography was less established and respected as a separate discipline within the visual arts\, and before the advent of digital printing opened up color printing to a much wider population of artists and correspondingly broad approaches\, many photographers cultivated the independence of photography and avoided the influences and models of other visual arts. \nGoing against the grain from the outset of his career\, Boyer has embraced all the visual arts as a photographer’s heritage\, creative matrix and inspiration. Boyer will describe his career-long engagement with sculpture\, architecture\, cinema\, and particularly with painting in a visual presentation entitled “Painting and Photography” on Sunday\, June 12\, at 4pm at Trident Gallery\, during his solo exhibition Ocean. A discussion period will follow the presentation. Afterward\, guests are invited to stay for light refreshments and informal conversation. This event is free and open to the public. \nThe slides Boyer used during his presentation are available to view in the gallery.  Video with the artist’s commentary will be published when post-processing is completed.
URL:https://matthewswiftgallery.com/presents/winston-boyer-painting-and-photography/
LOCATION:Matthew Swift Gallery\, 189 Main Street\, Gloucester\, MA\, 01930\, United States
CATEGORIES:Talk
ATTACH;FMTTYPE=image/jpeg:https://matthewswiftgallery.com/wp-content/uploads/ngg_featured/Trident-Gallery_Winston-Swift-Boyer_Winston-Swift-Boyer-portrait_1024px-long.jpg
GEO:42.6127639;-70.6614366
X-APPLE-STRUCTURED-LOCATION;VALUE=URI;X-ADDRESS=Matthew Swift Gallery 189 Main Street Gloucester MA 01930 United States;X-APPLE-RADIUS=500;X-TITLE=189 Main Street:geo:-70.6614366,42.6127639
END:VEVENT
END:VCALENDAR