BEGIN:VCALENDAR
VERSION:2.0
PRODID:-//Matthew Swift Gallery - ECPv5.8.2//NONSGML v1.0//EN
CALSCALE:GREGORIAN
METHOD:PUBLISH
X-WR-CALNAME:Matthew Swift Gallery
X-ORIGINAL-URL:https://matthewswiftgallery.com
X-WR-CALDESC:Events for Matthew Swift Gallery
BEGIN:VTIMEZONE
TZID:America/New_York
BEGIN:DAYLIGHT
TZOFFSETFROM:-0500
TZOFFSETTO:-0400
TZNAME:EDT
DTSTART:20190310T070000
END:DAYLIGHT
BEGIN:STANDARD
TZOFFSETFROM:-0400
TZOFFSETTO:-0500
TZNAME:EST
DTSTART:20191103T060000
END:STANDARD
END:VTIMEZONE
BEGIN:VEVENT
DTSTART;TZID=America/New_York:20190323T200000
DTEND;TZID=America/New_York:20190323T210000
DTSTAMP:20260421T115255
CREATED:20190216T231332Z
LAST-MODIFIED:20190322T232014Z
UID:10766-1553371200-1553374800@matthewswiftgallery.com
SUMMARY:The Red Table of Grief + Other Fine Episodes
DESCRIPTION:The Trident Live Art Series is pleased to present “The Red Table of Grief + Other Fine Episodes\,” an improvisational performance by Sarah Hickler\, Lorraine Grosslight\, Cass Tunick\, and Trisha Zembruski. There will be two showings\, at 4pm and 8pm. \nThe four performers have worked together in Action Theater\, clowning\, and other improvisational collaborations for over 20 years. In the vignettes composing this performance\, humor collides with a sense of loss. \nThe two seatings at 4pm and 8pm will take place at the MAGMA performance center across the street from Trident Gallery. The main entrance is at 11 Pleasant Street\, and elevator access is via 192 Main Street. Tickets are $15 at the door or online. \nProducer’s Note\nThough for most of us today\, the prototype of a “clown” is a wigged and red-nosed entertainer of children\, theatrical clowning is a dramatic tradition as deep as any other in our “western” cultures and others. Medieval jesters\, Buster Keaton and Charlie Chaplin\, Samuel Beckett’s tramps\, and the children’s entertainers of today are all in one way or another emblems of human folly in which we see our pretensions and ambitions come up against human limitations\, weakness\, and mortality. A clown “thinks she is in control\, but the audience clearly sees she is not.  The fun is in the discrepancy.”* The dramatic mode of clowning ranges from humorously diverting to profound moral\, philosophical\, and religious questioning. The best theater operates simultaneously at many levels\, and this is what I look forward to in this performance. \nMatthew Swift\nBiographical Notes\nLorraine Grosslight is a theater artist\, painter\, and STEM educator. She has practiced\, performed\, and taught Action Theater\, comedy improvisation\, and clowning for many years. \nSarah Hickler is a physical theater performer\, actor\, and director\, and a long-time practitioner and teacher of Action Theater. She is the Head of Acting at Emerson College\, where she teaches Movement\, Action Theater\, and Shakespeare. \nCass Tunick is a performer and theater-maker. She teaches Action Theater Improvisation at Emerson College\, in communities across the country\, and during the summer in Estonia. \nTrisha Zembruski is a performer\, teacher\, and graphic artist. She trained in Action Theater and clowning for a long time. She directs Theater for Kids\, a unique program that creates original plays with children.
URL:https://matthewswiftgallery.com/presents/the-red-table-of-grief-other-fine-episodes/2019-03-23/2/
LOCATION:MAGMA\, 11 Pleasant St\, Gloucester\, 01930\, United States
CATEGORIES:Dance,Theater
ATTACH;FMTTYPE=image/jpeg:https://matthewswiftgallery.com/wp-content/uploads/2019/06/Trident-Gallery__The-Red-Table-of-Grief_900w_clear-screen.jpg
GEO:42.6133334;-70.6617159
X-APPLE-STRUCTURED-LOCATION;VALUE=URI;X-ADDRESS=MAGMA 11 Pleasant St Gloucester 01930 United States;X-APPLE-RADIUS=500;X-TITLE=11 Pleasant St:geo:-70.6617159,42.6133334
END:VEVENT
END:VCALENDAR