BEGIN:VCALENDAR
VERSION:2.0
PRODID:-//Matthew Swift Gallery - ECPv5.8.2//NONSGML v1.0//EN
CALSCALE:GREGORIAN
METHOD:PUBLISH
X-WR-CALNAME:Matthew Swift Gallery
X-ORIGINAL-URL:https://matthewswiftgallery.com
X-WR-CALDESC:Events for Matthew Swift Gallery
BEGIN:VTIMEZONE
TZID:America/New_York
BEGIN:DAYLIGHT
TZOFFSETFROM:-0500
TZOFFSETTO:-0400
TZNAME:EDT
DTSTART:20200308T070000
END:DAYLIGHT
BEGIN:STANDARD
TZOFFSETFROM:-0400
TZOFFSETTO:-0500
TZNAME:EST
DTSTART:20201101T060000
END:STANDARD
END:VTIMEZONE
BEGIN:VEVENT
DTSTART;VALUE=DATE:20201010
DTEND;VALUE=DATE:20201109
DTSTAMP:20260421T163855
CREATED:20200926T192244Z
LAST-MODIFIED:20230528T195717Z
UID:24402-1602288000-1604879999@matthewswiftgallery.com
SUMMARY:Ruth Mordecai: New Work / 2020
DESCRIPTION:Note: This exhibition has been extended through Sunday\, November 8\, 2020. \nMatthew Swift Gallery is pleased to present 21 new paintings by Ruth Mordecai in which she continues to generate and employ a vocabulary of symbols evoking the promise of shared humanity and culture. From 12″ square to 5’ x 7′ in size\, the new paintings on paper and canvas possess richly-textured and often collaged surfaces\, suggesting layers of personal and cultural memory informing the present moment. Acknowledging sources in prayer and dream\, she has entitled many of the paintings simply “The Sign.”
URL:https://matthewswiftgallery.com/presents/ruth-mordecai-2020/
LOCATION:Matthew Swift Gallery\, 189 Main Street\, Gloucester\, MA\, 01930\, United States
CATEGORIES:Solo Exhibition
ATTACH;FMTTYPE=image/jpeg:https://matthewswiftgallery.com/wp-content/uploads/2020/09/nggallery_import/MatthewSwiftGallery_Ruth-Mordecai_The-Sign-5_900w_screen.jpg
GEO:42.6127639;-70.6614366
X-APPLE-STRUCTURED-LOCATION;VALUE=URI;X-ADDRESS=Matthew Swift Gallery 189 Main Street Gloucester MA 01930 United States;X-APPLE-RADIUS=500;X-TITLE=189 Main Street:geo:-70.6614366,42.6127639
END:VEVENT
END:VCALENDAR