BEGIN:VCALENDAR
VERSION:2.0
PRODID:-//Matthew Swift Gallery - ECPv5.8.2//NONSGML v1.0//EN
CALSCALE:GREGORIAN
METHOD:PUBLISH
X-WR-CALNAME:Matthew Swift Gallery
X-ORIGINAL-URL:https://matthewswiftgallery.com
X-WR-CALDESC:Events for Matthew Swift Gallery
BEGIN:VTIMEZONE
TZID:America/New_York
BEGIN:DAYLIGHT
TZOFFSETFROM:-0500
TZOFFSETTO:-0400
TZNAME:EDT
DTSTART:20240310T070000
END:DAYLIGHT
BEGIN:STANDARD
TZOFFSETFROM:-0400
TZOFFSETTO:-0500
TZNAME:EST
DTSTART:20241103T060000
END:STANDARD
END:VTIMEZONE
BEGIN:VEVENT
DTSTART;VALUE=DATE:20240601
DTEND;VALUE=DATE:20240915
DTSTAMP:20260421T183954
CREATED:20240913T190642Z
LAST-MODIFIED:20240913T230856Z
UID:26168-1717200000-1726358399@matthewswiftgallery.com
SUMMARY:One Life / Summer 2024
DESCRIPTION:A continuation and evolution of the exhibition One Life\, introducing new and selected works further illuminating the theme.
URL:https://matthewswiftgallery.com/presents/one-life-summer-2024/
LOCATION:Matthew Swift Gallery\, 189 Main Street\, Gloucester\, MA\, 01930\, United States
CATEGORIES:Group Exhibition
ATTACH;FMTTYPE=image/jpeg:https://matthewswiftgallery.com/wp-content/uploads/2024/09/nggallery_import/MatthewSwiftGallery_Kim-Radochia_Wingaersheek_900w_screen.jpg
GEO:42.6127639;-70.6614366
X-APPLE-STRUCTURED-LOCATION;VALUE=URI;X-ADDRESS=Matthew Swift Gallery 189 Main Street Gloucester MA 01930 United States;X-APPLE-RADIUS=500;X-TITLE=189 Main Street:geo:-70.6614366,42.6127639
END:VEVENT
END:VCALENDAR