BEGIN:VCALENDAR
VERSION:2.0
PRODID:-//Matthew Swift Gallery - ECPv5.8.2//NONSGML v1.0//EN
CALSCALE:GREGORIAN
METHOD:PUBLISH
X-WR-CALNAME:Matthew Swift Gallery
X-ORIGINAL-URL:https://matthewswiftgallery.com
X-WR-CALDESC:Events for Matthew Swift Gallery
BEGIN:VTIMEZONE
TZID:America/New_York
BEGIN:DAYLIGHT
TZOFFSETFROM:-0500
TZOFFSETTO:-0400
TZNAME:EDT
DTSTART:20160313T070000
END:DAYLIGHT
BEGIN:STANDARD
TZOFFSETFROM:-0400
TZOFFSETTO:-0500
TZNAME:EST
DTSTART:20161106T060000
END:STANDARD
END:VTIMEZONE
BEGIN:VEVENT
DTSTART;VALUE=DATE:20160501
DTEND;VALUE=DATE:20160902
DTSTAMP:20260419T110648
CREATED:20160430T014623Z
LAST-MODIFIED:20200927T190605Z
UID:5385-1462060800-1472774399@matthewswiftgallery.com
SUMMARY:Nadine Boughton on The Fence in Boston
DESCRIPTION:Six images from Nadine Boughton‘s Fortune and the Feminine series of collages have been selected for inclusion on The Fence\, an outdoor photography exhibition series in Boston’s SOWA district (Thayer Street @ Albany Street) from May 1 through September 1. \nThe installation opens in conjunction with the Flash Forward Festival in Boston\, featuring eight days of free international and New England photography.
URL:https://matthewswiftgallery.com/presents/news-nadine-boughton-on-the-fence-in-boston/
LOCATION:Matthew Swift Gallery\, 189 Main Street\, Gloucester\, MA\, 01930\, United States
CATEGORIES:News
ATTACH;FMTTYPE=image/jpeg:https://matthewswiftgallery.com/wp-content/uploads/ngg_featured/Trident-Gallery_Nadine-Boughton_Executive-Placesetting_1024x768px-cap.jpg
GEO:42.6127639;-70.6614366
X-APPLE-STRUCTURED-LOCATION;VALUE=URI;X-ADDRESS=Matthew Swift Gallery 189 Main Street Gloucester MA 01930 United States;X-APPLE-RADIUS=500;X-TITLE=189 Main Street:geo:-70.6614366,42.6127639
END:VEVENT
END:VCALENDAR