BEGIN:VCALENDAR
VERSION:2.0
PRODID:-//Matthew Swift Gallery - ECPv5.8.2//NONSGML v1.0//EN
CALSCALE:GREGORIAN
METHOD:PUBLISH
X-WR-CALNAME:Matthew Swift Gallery
X-ORIGINAL-URL:https://matthewswiftgallery.com
X-WR-CALDESC:Events for Matthew Swift Gallery
BEGIN:VTIMEZONE
TZID:America/New_York
BEGIN:DAYLIGHT
TZOFFSETFROM:-0500
TZOFFSETTO:-0400
TZNAME:EDT
DTSTART:20160313T070000
END:DAYLIGHT
BEGIN:STANDARD
TZOFFSETFROM:-0400
TZOFFSETTO:-0500
TZNAME:EST
DTSTART:20161106T060000
END:STANDARD
END:VTIMEZONE
BEGIN:VEVENT
DTSTART;VALUE=DATE:20160130
DTEND;VALUE=DATE:20160307
DTSTAMP:20260419T092851
CREATED:20151119T130612Z
LAST-MODIFIED:20230528T195706Z
UID:225-1454112000-1457308799@matthewswiftgallery.com
SUMMARY:NEST
DESCRIPTION:Trident Gallery is pleased to present Nest\, a third annual partnership with the Museum of American Bird Art at Mass Audubon to present a program of visual and performance art with a natural history theme. \nThis year’s program explores birds’ nests as wondrous natural objects\, emblems of shelter\, and monuments in the cycle of life and death. \n\n\n\n\n\n\nPress: Review by Keith Powers\, Cape Ann Beacon\, 2/16/2016 \nOn view are four prints from John James Audubon’s Birds of America and two from his Viviparous Quadrupeds of North America drawn by his son John Woodhouse Audubon; a painting by Audubon’s associate and Massachusetts native Isaac Sprague; a remarkable series of photographs of nests by California artist and author Sharon Beals; photographs and a collage by Rosamond Purcell\, Winston Boyer\, and Nadine Boughton; and a drawing by Gabrielle Barzaghi. \nOn Saturday\, February 6\, at 7:00pm and again at 8:30pm\, a program of performance art will develop the exploration and invite public participation. The Gallery will close at 5pm to prepare. \nOn Saturday\, February 13\, 5–7pm\, the gallery will host a public wine and cheese reception to celebrate the exhibition. \nTrident Gallery is delighted to be joined this year by the Rocky Neck Art Colony in establishing a winter tradition of exhibitions and programming celebrating the birds of Cape Ann and the nature of all Massachusetts in partnership with Mass Audubon\, with the wider aim of reaffirming human continuity with the natural world and the power of art to deepen our sensibilities. Rocky Neck Art Colony’s exhibition of multi-media avian art For The Birds will be on view January 28 – March 6. See their announcement for details of the public reception\, a talk on John J. Audubon by ornithologist Chris Leahy\, an auction of artful birdhouses\, and a raffle. \nThe Museum of American Bird Art at Mass Audubon is a professional art museum within New England’s largest conservation organization\, connecting people and nature through art. Located on a wildlife sanctuary in Canton MA and directed by Amy Montague\, the museum houses Mass Audubon’s extensive art collection and mounts exhibitions of art by internationally recognized artists inspired by nature. For further information\, visit massaudubon.org/maba.
URL:https://matthewswiftgallery.com/presents/nest/
LOCATION:Matthew Swift Gallery\, 189 Main Street\, Gloucester\, MA\, 01930\, United States
CATEGORIES:Group Exhibition
ATTACH;FMTTYPE=image/jpeg:https://matthewswiftgallery.com/wp-content/uploads/ngg_featured/Trident-Gallery_John-Woodhouse-Audubon_Black-Footed-Ferret_1024x768px-cap.jpg
GEO:42.6127639;-70.6614366
X-APPLE-STRUCTURED-LOCATION;VALUE=URI;X-ADDRESS=Matthew Swift Gallery 189 Main Street Gloucester MA 01930 United States;X-APPLE-RADIUS=500;X-TITLE=189 Main Street:geo:-70.6614366,42.6127639
END:VEVENT
END:VCALENDAR