BEGIN:VCALENDAR
VERSION:2.0
PRODID:-//Matthew Swift Gallery - ECPv5.8.2//NONSGML v1.0//EN
CALSCALE:GREGORIAN
METHOD:PUBLISH
X-WR-CALNAME:Matthew Swift Gallery
X-ORIGINAL-URL:https://matthewswiftgallery.com
X-WR-CALDESC:Events for Matthew Swift Gallery
BEGIN:VTIMEZONE
TZID:America/New_York
BEGIN:DAYLIGHT
TZOFFSETFROM:-0500
TZOFFSETTO:-0400
TZNAME:EDT
DTSTART:20130310T070000
END:DAYLIGHT
BEGIN:STANDARD
TZOFFSETFROM:-0400
TZOFFSETTO:-0500
TZNAME:EST
DTSTART:20131103T060000
END:STANDARD
END:VTIMEZONE
BEGIN:VEVENT
DTSTART;VALUE=DATE:20130830
DTEND;VALUE=DATE:20131015
DTSTAMP:20260421T114622
CREATED:20160425T013555Z
LAST-MODIFIED:20230625T202343Z
UID:4782-1377820800-1381795199@matthewswiftgallery.com
SUMMARY:Home: The Inaugural Exhibition
DESCRIPTION:Trident Gallery’s inaugural exhibition shows the work of twelve artists representing the excellence and variety of contemporary fine art on Cape Ann. \n\nGallery Director Dr. Matthew Swift has assembled 39 works of art that explore ideas of “home\,” a theme he will examine in programmed discussions\, gallery conversations\, and written materials. \n\nHome is a point of departure and a place of return.\nHome is the place of one’s dwelling or nurturing — Gloucester\, Cape Ann\, the United States\, the planet Earth.\nHome is the seat of one’s domestic life and overlapping communities; it is a place of safety and comfort.\nHome is a target\, the destination of a creative mind striving to think\, to forge meaning\, to provoke\, to pay homage\, to become beautiful.
URL:https://matthewswiftgallery.com/presents/home-the-inaugural-exhibition/
LOCATION:Matthew Swift Gallery\, 189 Main Street\, Gloucester\, MA\, 01930\, United States
CATEGORIES:Group Exhibition
ATTACH;FMTTYPE=image/jpeg:https://matthewswiftgallery.com/wp-content/uploads/ngg_featured/Trident-Gallery_04_Zygmund-Jankowski_House-on-Prospect-Street_1024x768px-cap.jpg
GEO:42.6127639;-70.6614366
X-APPLE-STRUCTURED-LOCATION;VALUE=URI;X-ADDRESS=Matthew Swift Gallery 189 Main Street Gloucester MA 01930 United States;X-APPLE-RADIUS=500;X-TITLE=189 Main Street:geo:-70.6614366,42.6127639
END:VEVENT
END:VCALENDAR