BEGIN:VCALENDAR
VERSION:2.0
PRODID:-//Matthew Swift Gallery - ECPv5.8.2//NONSGML v1.0//EN
CALSCALE:GREGORIAN
METHOD:PUBLISH
X-WR-CALNAME:Matthew Swift Gallery
X-ORIGINAL-URL:https://matthewswiftgallery.com
X-WR-CALDESC:Events for Matthew Swift Gallery
BEGIN:VTIMEZONE
TZID:America/New_York
BEGIN:DAYLIGHT
TZOFFSETFROM:-0500
TZOFFSETTO:-0400
TZNAME:EDT
DTSTART:20180311T070000
END:DAYLIGHT
BEGIN:STANDARD
TZOFFSETFROM:-0400
TZOFFSETTO:-0500
TZNAME:EST
DTSTART:20181104T060000
END:STANDARD
END:VTIMEZONE
BEGIN:VEVENT
DTSTART;TZID=America/New_York:20180624T150000
DTEND;TZID=America/New_York:20180624T160000
DTSTAMP:20260421T200611
CREATED:20180319T150514Z
LAST-MODIFIED:20180319T150514Z
UID:9923-1529852400-1529856000@matthewswiftgallery.com
SUMMARY:Exercises for the Quiet Eye
DESCRIPTION:Museum educator Annie Storr offers a guided session of looking at the current exhibition at Trident Gallery. The special nature of her program brings insights to beginners and art professionals alike. \nThe session is free\, very informal\, and no reservation is needed. Please join us! \nAnnie Storr is a Gloucester resident who has been a public museum educator for more than 30 years. She experiments continually with new ways to guide both novices and long-accustomed viewers — the viewing public\, teachers\, students\, collectors\, and artists — into deep\, direct\, integrated experiences of art. \nHer “Exercises for the Quiet Eye” are informal exercises emphasizing experiences of art that encourage patient reflection\, appreciation\, and an attempt to avoid a rush to understand\, a rush to fix an interpretation of what we see. \nShe is a Scholar at Brandeis and teaches “Gallery-Based Teaching and Learning” in Harvard’s Museum Studies program.
URL:https://matthewswiftgallery.com/presents/eqe/2018-06-24/
LOCATION:Matthew Swift Gallery\, 189 Main Street\, Gloucester\, MA\, 01930\, United States
CATEGORIES:Other Event
ATTACH;FMTTYPE=image/jpeg:https://matthewswiftgallery.com/wp-content/uploads/2019/06/Trident-Gallery_Michelle-Samour_Eyes-of-God_900w_clear-screen.jpg
GEO:42.6127639;-70.6614366
X-APPLE-STRUCTURED-LOCATION;VALUE=URI;X-ADDRESS=Matthew Swift Gallery 189 Main Street Gloucester MA 01930 United States;X-APPLE-RADIUS=500;X-TITLE=189 Main Street:geo:-70.6614366,42.6127639
END:VEVENT
END:VCALENDAR