BEGIN:VCALENDAR
VERSION:2.0
PRODID:-//Matthew Swift Gallery - ECPv5.8.2//NONSGML v1.0//EN
CALSCALE:GREGORIAN
METHOD:PUBLISH
X-WR-CALNAME:Matthew Swift Gallery
X-ORIGINAL-URL:https://matthewswiftgallery.com
X-WR-CALDESC:Events for Matthew Swift Gallery
BEGIN:VTIMEZONE
TZID:America/New_York
BEGIN:DAYLIGHT
TZOFFSETFROM:-0500
TZOFFSETTO:-0400
TZNAME:EDT
DTSTART:20210314T070000
END:DAYLIGHT
BEGIN:STANDARD
TZOFFSETFROM:-0400
TZOFFSETTO:-0500
TZNAME:EST
DTSTART:20211107T060000
END:STANDARD
END:VTIMEZONE
BEGIN:VEVENT
DTSTART;VALUE=DATE:20211130
DTEND;VALUE=DATE:20211206
DTSTAMP:20260421T163943
CREATED:20210703T173012Z
LAST-MODIFIED:20230528T195616Z
UID:24843-1638230400-1638748799@matthewswiftgallery.com
SUMMARY:Art Miami 2021
DESCRIPTION:Matthew Swift Gallery is very pleased to participate in Art Miami 2021\, one of the premier art fairs of Miami Art Week\, November 30 – December 5. \nWe will be in booth 228. Slideshows of art and installation photos are below. \nArtists in the booth: Peter Lyons\, Susan Erony\, Erika Marquardt\, Timothy Harney\, Gabrielle Barzaghi\, Aron Leaman\, Diane Ayott\, Ruth Mordecai\, and Kim Radochia.
URL:https://matthewswiftgallery.com/presents/art-miami-2021/
LOCATION:Matthew Swift Gallery\, 189 Main Street\, Gloucester\, MA\, 01930\, United States
CATEGORIES:Group Fair
ATTACH;FMTTYPE=image/jpeg:https://matthewswiftgallery.com/wp-content/uploads/2021/07/nggallery_import/MatthewSwiftGallery_Susan-Erony-and-Erika-Marquardt_Kriegsschäden-(War-Damage)---detail---Panel-1_900w_screen.jpg
GEO:42.6127639;-70.6614366
X-APPLE-STRUCTURED-LOCATION;VALUE=URI;X-ADDRESS=Matthew Swift Gallery 189 Main Street Gloucester MA 01930 United States;X-APPLE-RADIUS=500;X-TITLE=189 Main Street:geo:-70.6614366,42.6127639
END:VEVENT
END:VCALENDAR